BEGIN:VCALENDAR
VERSION:2.0
PRODID:-//ROAR - ECPv6.15.20//NONSGML v1.0//EN
CALSCALE:GREGORIAN
METHOD:PUBLISH
X-WR-CALNAME:ROAR
X-ORIGINAL-URL:https://roartofino.com
X-WR-CALDESC:Events for ROAR
REFRESH-INTERVAL;VALUE=DURATION:PT1H
X-Robots-Tag:noindex
X-PUBLISHED-TTL:PT1H
BEGIN:VTIMEZONE
TZID:America/Vancouver
BEGIN:DAYLIGHT
TZOFFSETFROM:-0800
TZOFFSETTO:-0700
TZNAME:PDT
DTSTART:20250309T100000
END:DAYLIGHT
BEGIN:STANDARD
TZOFFSETFROM:-0700
TZOFFSETTO:-0800
TZNAME:PST
DTSTART:20251102T090000
END:STANDARD
BEGIN:DAYLIGHT
TZOFFSETFROM:-0800
TZOFFSETTO:-0700
TZNAME:PDT
DTSTART:20260308T100000
END:DAYLIGHT
BEGIN:STANDARD
TZOFFSETFROM:-0700
TZOFFSETTO:-0800
TZNAME:PST
DTSTART:20261101T090000
END:STANDARD
BEGIN:DAYLIGHT
TZOFFSETFROM:-0800
TZOFFSETTO:-0700
TZNAME:PDT
DTSTART:20270314T100000
END:DAYLIGHT
BEGIN:STANDARD
TZOFFSETFROM:-0700
TZOFFSETTO:-0800
TZNAME:PST
DTSTART:20271107T090000
END:STANDARD
END:VTIMEZONE
BEGIN:VEVENT
DTSTART;TZID=America/Vancouver:20260704T140000
DTEND;TZID=America/Vancouver:20260704T170000
DTSTAMP:20260421T053558
CREATED:20230427T054920Z
LAST-MODIFIED:20231123T035433Z
UID:10000640-1783173600-1783184400@roartofino.com
SUMMARY:Saturday DJ Set: DJ Tako
DESCRIPTION:
URL:https://roartofino.com/event/saturday-dj-set-dj-tako/2026-07-04/
CATEGORIES:Après Surf Live Music,Local Events
ATTACH;FMTTYPE=image/jpeg:https://roartofino.com/wp-content/uploads/2023/04/MicrosoftTeams-image-scaled.jpg
END:VEVENT
END:VCALENDAR